BEGIN:VCALENDAR
VERSION:2.0
PRODID:-//ACENVI - ECPv6.15.17.1//NONSGML v1.0//EN
CALSCALE:GREGORIAN
METHOD:PUBLISH
X-WR-CALNAME:ACENVI
X-ORIGINAL-URL:https://www.acenvi.org.gt
X-WR-CALDESC:Eventos para ACENVI
REFRESH-INTERVAL;VALUE=DURATION:PT1H
X-Robots-Tag:noindex
X-PUBLISHED-TTL:PT1H
BEGIN:VTIMEZONE
TZID:America/Guatemala
BEGIN:STANDARD
TZOFFSETFROM:-0600
TZOFFSETTO:-0600
TZNAME:CST
DTSTART:20220101T000000
END:STANDARD
END:VTIMEZONE
BEGIN:VEVENT
DTSTART;TZID=America/Guatemala:20230215T073000
DTEND;TZID=America/Guatemala:20230215T203000
DTSTAMP:20260424T132657
CREATED:20230124T153506Z
LAST-MODIFIED:20231206T141913Z
UID:1943-1676446200-1676493000@www.acenvi.org.gt
SUMMARY:ACENVI - Desayuno Conferencia "AeroMetro"- innovación del transporte público para la ciudad de Guatemala
DESCRIPTION:La expansión de la ciudad de Guatemala y las condiciones de su densificación se muestra con inversiones en el mercado inmobiliario\,  por lo que es  necesario adelantarse a los problemas de movilidad urbana con la implementación de una nueva alternativa para el  transporte público el  “AeroMetro”\, en busca del beneficio inmediato y lograr la sostenibilidad de la ciudad mediante la implementación de un sistema de transporte público por cable aéreo que brinde servicios de manera eficiente\, accesible\, segura\, incluyente e integrada. \n\nPara nuestro próximo desayuno conferencia hemos invitado a la  Licenciada Alessandra Gallio\, Concejal Segunda\, Municipalidad de Guatemala\,  para que nos presente la conferencia “AeroMetro” –  innovación del transporte público para la ciudad de Guatemala. \nFECHA Y  HORA:   Miércoles 15 de Febrero –  7:30 de la mañana. \nLUGAR: Centro de Convenciones Kabel – 6 avenida 9-18 zona 10 – Edificio Sixtino II\, 10o. Nivel \nINFORMACIÓN E INSCRIPCIONES:  info@acenvi.org.gt \nADMISIÓN:  Q.150.00  –  Asociado 1 pase de cortesía
URL:https://www.acenvi.org.gt/eventos/acenvi-desayuno-conferencia-aerometro-innovacion-del-transporte-publico-para-la-ciudad-de-guatemala/
CATEGORIES:Desayuno
ATTACH;FMTTYPE=image/jpeg:https://www.acenvi.org.gt/wp-content/uploads/2023/01/image003.jpg
END:VEVENT
END:VCALENDAR