BEGIN:VCALENDAR
VERSION:2.0
PRODID:-//ACENVI - ECPv6.15.17.1//NONSGML v1.0//EN
CALSCALE:GREGORIAN
METHOD:PUBLISH
X-ORIGINAL-URL:https://www.acenvi.org.gt
X-WR-CALDESC:Eventos para ACENVI
REFRESH-INTERVAL;VALUE=DURATION:PT1H
X-Robots-Tag:noindex
X-PUBLISHED-TTL:PT1H
BEGIN:VTIMEZONE
TZID:America/Guatemala
BEGIN:STANDARD
TZOFFSETFROM:-0600
TZOFFSETTO:-0600
TZNAME:CST
DTSTART:20220101T000000
END:STANDARD
END:VTIMEZONE
BEGIN:VEVENT
DTSTART;TZID=America/Guatemala:20230119T073000
DTEND;TZID=America/Guatemala:20230119T203000
DTSTAMP:20260424T150651
CREATED:20230102T165133Z
LAST-MODIFIED:20231206T141644Z
UID:1936-1674113400-1674160200@www.acenvi.org.gt
SUMMARY:ACENVI - Desayuno Conferencia LA ADMINISTRACIÓN DE CONDOMINIOS - Más que un costo es un valor agregado - Miercoles 18 de Enero 2023 - 7:30 am
DESCRIPTION:Es un gusto saludarlos deseándoles prosperidad y éxito para este año  2023.  El primer evento que tendremos este año es el desayuno conferencia: \nLA ADMINISTRACIÓN DE CONDOMINIOS – Más que un costo es un valor agregado. \nHoy no sólo vendemos viviendas\, nuestros clientes esperan soluciones cada día más integrales a sus necesidades diarias y esto nos ha obligado a atender muchos servicios que antes prestaban empresas públicas o municipales.  La administración y manejo de estos servicios puede parecer una carga sobre el promotor\, en este evento hablaremos de cómo transformar esa necesidad en una oportunidad de negocio. \n\nLa empresa invitada para hacernos esta presentación es RES Vertical\, empresa dedicada a proyectos tecnológicos y organizacionales para el mercado inmobiliario. \n\n¹FECHA Y  HORA:   Miércoles 18 de Enero 2023 –  7:30 de la mañana. \nLUGAR: Nativo Wellness Club –  Edificio Integra Medical Center – 8º Nivel – 9ª Calle 4-52 Zona 10 \niInformación e inscripciones:  info@acenvi.org.gt \nADMISIÓN:  Q.150.00  –  Asociado 1 pase de cortesía
URL:https://www.acenvi.org.gt/eventos/acenvi-desayuno-conferencia-la-administracion-de-condominios-mas-que-un-costo-es-un-valor-agregado-miercoles-18-de-enero-2023-730-am/
CATEGORIES:Desayuno
ATTACH;FMTTYPE=image/jpeg:https://www.acenvi.org.gt/wp-content/uploads/2023/01/image005-1.jpg
END:VEVENT
END:VCALENDAR