BEGIN:VCALENDAR
VERSION:2.0
PRODID:-//ACENVI - ECPv6.15.17.1//NONSGML v1.0//EN
CALSCALE:GREGORIAN
METHOD:PUBLISH
X-ORIGINAL-URL:https://www.acenvi.org.gt
X-WR-CALDESC:Eventos para ACENVI
REFRESH-INTERVAL;VALUE=DURATION:PT1H
X-Robots-Tag:noindex
X-PUBLISHED-TTL:PT1H
BEGIN:VTIMEZONE
TZID:America/Guatemala
BEGIN:STANDARD
TZOFFSETFROM:-0600
TZOFFSETTO:-0600
TZNAME:CST
DTSTART:20210101T000000
END:STANDARD
END:VTIMEZONE
BEGIN:VEVENT
DTSTART;TZID=America/Guatemala:20221005T173000
DTEND;TZID=America/Guatemala:20221005T183000
DTSTAMP:20260424T202438
CREATED:20220929T165025Z
LAST-MODIFIED:20231206T141756Z
UID:1863-1664991000-1664994600@www.acenvi.org.gt
SUMMARY:Webinar ACENVI: Impresiones en 3D que están revolucionando la industria de la construcción
DESCRIPTION:Una de las innovaciones para la industria de la construcción son las impresoras 3D.  Para nuestro próximo webinar hemos invitado al Ingeniero Plinio Estuardo Herrera Gerente de Investigación y Desarrollo de Concreto en Cementos Progreso\, para que nos comparta importante información sobre esta herramienta\, entre otras: \n\nLos beneficios\nLa utilidad\nEl funcionamiento\,\nOportunidades de su implementación en Guatemala\n\nAl inicio del evento CABI presentará el resumen económico financiero mensual del Dashboard de ACENVI \nFECHA Y HORA: Miércoles 5 de Octubre  – 17:30 Horas  – LUGAR:  Zoom \nAdmisión gratuita – Cupo limitado  – Información info@acenvi.org.gt
URL:https://www.acenvi.org.gt/eventos/webinar-acenvi-impresiones-en-3d-que-estan-revolucionando-la-industria-de-la-construccion/
CATEGORIES:Webinar
ATTACH;FMTTYPE=image/jpeg:https://www.acenvi.org.gt/wp-content/uploads/2022/09/image001-8.jpg
END:VEVENT
BEGIN:VEVENT
DTSTART;TZID=America/Guatemala:20221019T173000
DTEND;TZID=America/Guatemala:20221019T183000
DTSTAMP:20260424T202438
CREATED:20221007T213806Z
LAST-MODIFIED:20231206T141748Z
UID:1870-1666200600-1666204200@www.acenvi.org.gt
SUMMARY:Webinar ACENVI: Panorama actual del mercado de la vivienda para el segundo semestre del año\, con datos de Guatemala\, El Salvador y Costa Rica
DESCRIPTION:Para nuestro próximo webinar\, hemos invitado a Lucia Rivers\, Gerente Regional y Directora de Prime IQ\, Agencia líder en estudios de mercado\, para que nos comparta cuál es el  Panorama actual del mercado de la vivienda para el segundo semestre del año\, con datos de Guatemala\, El Salvador y Costa Rica. \n\nFECHA y HORA:  Miércoles 19 de Octubre  a partir de las 17:30 Horas.    Lugar:  Zoom \nEvento gratuito- Cupo limitado- Información: info@acenvi.org.gt
URL:https://www.acenvi.org.gt/eventos/webinar-acenvi-panorama-actual-del-mercado-de-la-vivienda-para-el-segundo-semestre-del-ano-con-datos-de-guatemala-el-salvador-y-costa-rica/
CATEGORIES:Webinar
ATTACH;FMTTYPE=image/jpeg:https://www.acenvi.org.gt/wp-content/uploads/2022/10/image003-7.jpg
END:VEVENT
END:VCALENDAR