BEGIN:VCALENDAR
VERSION:2.0
PRODID:-//ACENVI - ECPv6.15.17.1//NONSGML v1.0//EN
CALSCALE:GREGORIAN
METHOD:PUBLISH
X-WR-CALNAME:ACENVI
X-ORIGINAL-URL:https://www.acenvi.org.gt
X-WR-CALDESC:Eventos para ACENVI
REFRESH-INTERVAL;VALUE=DURATION:PT1H
X-Robots-Tag:noindex
X-PUBLISHED-TTL:PT1H
BEGIN:VTIMEZONE
TZID:America/Guatemala
BEGIN:STANDARD
TZOFFSETFROM:-0600
TZOFFSETTO:-0600
TZNAME:CST
DTSTART:20190101T000000
END:STANDARD
END:VTIMEZONE
BEGIN:VTIMEZONE
TZID:UTC
BEGIN:STANDARD
TZOFFSETFROM:+0000
TZOFFSETTO:+0000
TZNAME:UTC
DTSTART:20190101T000000
END:STANDARD
END:VTIMEZONE
BEGIN:VEVENT
DTSTART;TZID=America/Guatemala:20201118T173000
DTEND;TZID=America/Guatemala:20201118T183000
DTSTAMP:20260422T115950
CREATED:20201106T153909Z
LAST-MODIFIED:20201106T165703Z
UID:924-1605720600-1605724200@www.acenvi.org.gt
SUMMARY:Webinar ACENVI: MECANISMOS DEL FHA  PARA PROMOVER LA CONSTRUCCIÓN DE VIVIENDA
DESCRIPTION:El miércoles 18 de Noviembre contaremos con FHA como nuestro invitado\, para que nos presenten \nAcciones y Mecanismo de Apoyo del FHA durante el 2020 \n\nLa Sra. Carol de Martínez\, Gerente\, compartirá el tema: Relanzamiento Producto Construcción en Lote Propio – CLP\nEl Lic. Mauricio Gonzales\, Subgerente de Operaciones compartirá el tema: Impacto Positivo del Seguro de Desgravamen
URL:https://www.acenvi.org.gt/eventos/webinar-acenvi-villa-nueva-una-nueva-vision-municipal-2/
ATTACH;FMTTYPE=image/jpeg:https://www.acenvi.org.gt/wp-content/uploads/2020/11/18-de-Noviembre.jpg
ORGANIZER;CN="Acenvi":MAILTO:info.acenvigt@gmail.com
END:VEVENT
BEGIN:VEVENT
DTSTART;TZID=America/Guatemala:20201104T173000
DTEND;TZID=America/Guatemala:20201104T190000
DTSTAMP:20260422T115950
CREATED:20201023T023200Z
LAST-MODIFIED:20201023T024202Z
UID:901-1604511000-1604516400@www.acenvi.org.gt
SUMMARY:Webinar ACENVI: VILLA NUEVA\, UNA NUEVA VISION MUNICIPAL
DESCRIPTION:Para el webinar de ACENVI\, programado para 04 de noviembre nos acompañara el Lic. Javier Alejandro Gramajo Escobar\,    Alcalde de Villa Nueva\, quien nos estará compartiendo la Nueva Visión Municipal para Villa Nueva: \n\na)Importancia de inversión para convertirla en la zona industrial del país;\nb)Facilidades que está administración ha implementado en la tramitología para el desarrollo de proyectos habitacionales\, centros comerciales\, bodegas y otros;\nc)Estudio para desarrollo de vivienda de interés social en terrenos de la Municipalidad;\nd)Obras de infraestructura a desarrollar en esta administración;
URL:https://www.acenvi.org.gt/eventos/webinar-acenvi-villa-nueva-una-nueva-vision-municipal/
ATTACH;FMTTYPE=image/jpeg:https://www.acenvi.org.gt/wp-content/uploads/2020/10/Webinar-4-noviembre.jpg
ORGANIZER;CN="Acenvi":MAILTO:info.acenvigt@gmail.com
END:VEVENT
BEGIN:VEVENT
DTSTART;TZID=America/Guatemala:20201021T173000
DTEND;TZID=America/Guatemala:20201021T183000
DTSTAMP:20260422T115950
CREATED:20201008T202017Z
LAST-MODIFIED:20201008T212701Z
UID:859-1603301400-1603305000@www.acenvi.org.gt
SUMMARY:Webinar ACENVI: ¿Cuál es la situación actual y futura de construcción industrializada en Latinoamérica? - Miércoles 21 de Octubre
DESCRIPTION:Hemos invitado al Ingeniero Manuel Lascarro\, Director General de la Cámara Colombiana del Cemento y el Concreto (antes ASOCRETO)\, para que desde su experiencia\, nos pueda compartir cómo visualizan la Situación actual y futura de construcción industrializada  en Latinoamérica: \n\nEl sector de la construcción es clave para la reactivación económica\n\n\nLa actual situación de la pandemia obliga a pensar en nuevas formas de incrementar la competitividad del sector\n\n\nLa industrialización\, de la mano de la tecnología\, era el futuro del sector que ahora se aceleró
URL:https://www.acenvi.org.gt/eventos/webinar-acenvi-cual-es-la-situacion-actual-y-futura-de-construccion-industrializada-en-latinoamerica-miercoles-21-de-octubre/
ATTACH;FMTTYPE=image/jpeg:https://www.acenvi.org.gt/wp-content/uploads/2020/10/21-de-Oct.jpg
ORGANIZER;CN="Acenvi":MAILTO:info.acenvigt@gmail.com
END:VEVENT
BEGIN:VEVENT
DTSTART;TZID=America/Guatemala:20201007T173000
DTEND;TZID=America/Guatemala:20201007T173000
DTSTAMP:20260422T115950
CREATED:20200924T234033Z
LAST-MODIFIED:20200924T234033Z
UID:620-1602091800-1602091800@www.acenvi.org.gt
SUMMARY:Webinar ACENVI -  La importancia del aporte de las remesas a la economía del país
DESCRIPTION:La importancia del aporte de las remesas a la economía del país \nEl próximo webinar de ACENVI tratará sobre las Remesas\,  por lo que hemos invitado a dos expertos en el tema: OIM y BARURAL.  Funcionarios de estas dos  entidades nos estarán compartiendo información sobre:\n1.      Breve perfil del migrante guatemalteco y de los beneficiarios de remesas;\n2.      Breve tipología de la vivienda;\n3.      Remesas: volumen\, mecanismos de transferencias y como pueden direccionarse a la adquisición de vivienda.
URL:https://www.acenvi.org.gt/eventos/webinar-acenvi-la-importancia-del-aporte-de-las-remesas-a-la-economia-del-pais/
CATEGORIES:Webinar
ATTACH;FMTTYPE=image/jpeg:https://www.acenvi.org.gt/wp-content/uploads/2020/09/Plantilla_Mailing_Oct-7-1.jpg
ORGANIZER;CN="Acenvi":MAILTO:info.acenvigt@gmail.com
END:VEVENT
BEGIN:VEVENT
DTSTART;TZID=UTC:20200923T173000
DTEND;TZID=UTC:20200923T210000
DTSTAMP:20260422T115950
CREATED:20200911T150025Z
LAST-MODIFIED:20200911T150346Z
UID:612-1600882200-1600894800@www.acenvi.org.gt
SUMMARY:FIVERDE – un módelo para el financiamiento verde.
DESCRIPTION:FIVERDE – un módelo para el financiamiento verde. \n  \n\nEl concepto de vivienda verde o sustentable no solo genera bienestar espacial y reducción de gas efecto invernadero\, sino también beneficios económicos.\nEl Modelo de Financiamiento Verde es un instrumento que ayuda a la toma de decisiones para el desarrollador y  el ente financiero.  Y para el usuario tiene un efecto favorable  en la cuota nivelada a 20 años.
URL:https://www.acenvi.org.gt/eventos/fiverde-un-modelo-para-el-financiamiento-verde/
CATEGORIES:Webinar
ATTACH;FMTTYPE=image/jpeg:https://www.acenvi.org.gt/wp-content/uploads/2020/09/image003.jpg
ORGANIZER;CN="Acenvi":MAILTO:info.acenvigt@gmail.com
END:VEVENT
BEGIN:VEVENT
DTSTART;TZID=UTC:20200812T173000
DTEND;TZID=UTC:20200812T190000
DTSTAMP:20260422T115950
CREATED:20200803T145003Z
LAST-MODIFIED:20200803T145408Z
UID:448-1597253400-1597258800@www.acenvi.org.gt
SUMMARY:Déficit Habitacional según el Censo 2018
DESCRIPTION:Conferencistas invitados: \n\nDéficit Habitacional según el Censo 2018 – Dr. Miguel Angel Zea – Arq. Ruy Llarena\nCuál es el potencial de vivienda para los próximos años – Lic. Edgar Monzon\n\nEvento Gratuito
URL:https://www.acenvi.org.gt/eventos/deficit-habitacional-segun-el-censo-2018/
CATEGORIES:Webinar
ATTACH;FMTTYPE=image/png:https://www.acenvi.org.gt/wp-content/uploads/2020/08/Captura.png
ORGANIZER;CN="Acenvi":MAILTO:info.acenvigt@gmail.com
END:VEVENT
BEGIN:VEVENT
DTSTART;TZID=UTC:20200729T173000
DTEND;TZID=UTC:20200729T190000
DTSTAMP:20260422T115950
CREATED:20200723T173226Z
LAST-MODIFIED:20200723T173226Z
UID:301-1596043800-1596049200@www.acenvi.org.gt
SUMMARY:Movilización urbana en Guatemala. Censo 2018
DESCRIPTION:Conferencista invitado: Lic. Edgar Monzón – Director PRODATOS \n\nRegiones y zonas con mayor nivel de urbanización.\nPrincipales características de los hogares urbanos.\nOportunidades para desarrollar viviendas\n\nEvento Gratuito
URL:https://www.acenvi.org.gt/eventos/movilizacion-urbana-en-guatemala-censo-2018/
CATEGORIES:Webinar
ATTACH;FMTTYPE=image/png:https://www.acenvi.org.gt/wp-content/uploads/2020/07/webinar-07152020.png
ORGANIZER;CN="Acenvi":MAILTO:info.acenvigt@gmail.com
END:VEVENT
BEGIN:VEVENT
DTSTART;TZID=UTC:20200715T173000
DTEND;TZID=UTC:20200715T190000
DTSTAMP:20260422T115950
CREATED:20200723T173954Z
LAST-MODIFIED:20200723T174141Z
UID:307-1594834200-1594839600@www.acenvi.org.gt
SUMMARY:Guatemala cambió
DESCRIPTION:Conferencista invitado: Lic. Edgar Monzón – Director PRODATOS \n¿Qué nos dice el Censo 2018 sobre la Población? \n\n¿Cuántos somos?\n¿Dónde vivimos?\n¿Cuáles son las oportunidades?\n\nEvento Gratuito – Cupo Limitado
URL:https://www.acenvi.org.gt/eventos/guatemala-cambio/
CATEGORIES:Webinar
ATTACH;FMTTYPE=image/png:https://www.acenvi.org.gt/wp-content/uploads/2020/07/Webinar-071520201.png
ORGANIZER;CN="Acenvi":MAILTO:info.acenvigt@gmail.com
END:VEVENT
BEGIN:VEVENT
DTSTART;TZID=UTC:20200701T173000
DTEND;TZID=UTC:20200701T173000
DTSTAMP:20260422T115950
CREATED:20200723T175007Z
LAST-MODIFIED:20200723T175007Z
UID:310-1593624600-1593624600@www.acenvi.org.gt
SUMMARY:Disposiciones del FHA para manejar la situación de emergencia del pais
DESCRIPTION:Conferencistas invitado: \nArq. Juan Pablo Rosales – Director Junta Directiva FHA \nSra. Carol de Martínez – Gerente FHA \nTEMAS: \n\nNuevas disposiciones adoptadas por FHA ante COVID-19.\nDigitalización de expendientes.\nPresentación del Reclamo del Seguro de Desgravamen vía web.\n\nEvento Gratuito – CUPO LIMITADO
URL:https://www.acenvi.org.gt/eventos/disposiciones-del-fha-para-manejar-la-situacion-de-emergencia-del-pais/
CATEGORIES:Webinar
ATTACH;FMTTYPE=image/jpeg:https://www.acenvi.org.gt/wp-content/uploads/2020/07/Desayuno-07012020a.jpg
ORGANIZER;CN="Acenvi":MAILTO:info.acenvigt@gmail.com
END:VEVENT
BEGIN:VEVENT
DTSTART;TZID=UTC:20200617T173000
DTEND;TZID=UTC:20200617T190000
DTSTAMP:20260422T115950
CREATED:20200723T175943Z
LAST-MODIFIED:20200723T180258Z
UID:314-1592415000-1592420400@www.acenvi.org.gt
SUMMARY:El futuro de la vivienda en Guatemala
DESCRIPTION:Conferencista invitado: \nArq. Eduardo Aguirre – Presidente Colegio de Arquitectos e integrante Comisión Plan Nacional de Vivienda en CONAVI \nLos tres retos básicos ante nosotros: \n\nCambiemos la visión y estrategia para enfrentar el deficit de la vivienda.\nLograr una sola dirección y una coordinación que permita integrar a todos los sectores con una política de vivienda incluyente.\nSoñemos como diseñar la Guatemala del futuro.\n\nEvento Gratuito – CUPO LIMITADO
URL:https://www.acenvi.org.gt/eventos/el-futuro-de-la-vivienda-en-guatemala/
CATEGORIES:Webinar
ATTACH;FMTTYPE=image/png:https://www.acenvi.org.gt/wp-content/uploads/2020/07/Desayuno-06172020.png
ORGANIZER;CN="Acenvi":MAILTO:info.acenvigt@gmail.com
END:VEVENT
BEGIN:VEVENT
DTSTART;TZID=UTC:20200603T173000
DTEND;TZID=UTC:20200603T190000
DTSTAMP:20260422T115950
CREATED:20200723T181418Z
LAST-MODIFIED:20200723T181418Z
UID:317-1591205400-1591210800@www.acenvi.org.gt
SUMMARY:La gestión gubernamental orientada a mitigar el impacto económico de la pandemia COVID-19
DESCRIPTION:Conferencistas invitado: \nLicenciado Edgar Ortiz \nLicenciado Renzo Rosal \nTEMAS: \n\nPlanes de gobierno.\nEl manejo de los fondos de ayuda y apoyo.\nCapacidad del Estado para atender la emergencia.\n\nEvento Gratuito – CUPO LIMITADO
URL:https://www.acenvi.org.gt/eventos/la-gestion-gubernamental-orientada-a-mitigar-el-impacto-economico-de-la-pandemia-covid-19/
CATEGORIES:Webinar
ATTACH;FMTTYPE=image/png:https://www.acenvi.org.gt/wp-content/uploads/2020/07/Desayuno-06032020-Copy.png
ORGANIZER;CN="Acenvi":MAILTO:info.acenvigt@gmail.com
END:VEVENT
END:VCALENDAR