BEGIN:VCALENDAR
VERSION:2.0
PRODID:-//ACENVI - ECPv6.15.17.1//NONSGML v1.0//EN
CALSCALE:GREGORIAN
METHOD:PUBLISH
X-WR-CALNAME:ACENVI
X-ORIGINAL-URL:https://www.acenvi.org.gt
X-WR-CALDESC:Eventos para ACENVI
REFRESH-INTERVAL;VALUE=DURATION:PT1H
X-Robots-Tag:noindex
X-PUBLISHED-TTL:PT1H
BEGIN:VTIMEZONE
TZID:America/Guatemala
BEGIN:STANDARD
TZOFFSETFROM:-0600
TZOFFSETTO:-0600
TZNAME:CST
DTSTART:20220101T000000
END:STANDARD
END:VTIMEZONE
BEGIN:VTIMEZONE
TZID:UTC
BEGIN:STANDARD
TZOFFSETFROM:+0000
TZOFFSETTO:+0000
TZNAME:UTC
DTSTART:20220101T000000
END:STANDARD
END:VTIMEZONE
BEGIN:VEVENT
DTSTART;TZID=America/Guatemala:20230412T073000
DTEND;TZID=America/Guatemala:20230412T083000
DTSTAMP:20260423T201054
CREATED:20230322T213335Z
LAST-MODIFIED:20231206T141928Z
UID:1957-1681284600-1681288200@www.acenvi.org.gt
SUMMARY:Desayuno Conferencia: Nueva plataforma para comercializar vivienda para el mercado migrante en Estados Unidos de América - Miércoles 12 de Abril -7:30 am
DESCRIPTION:Existe un nicho no explotado de potenciales compradores  para proyectos de vivienda provenientes de los guatemaltecos que trabajan en Estados Unidos\,  y dentro de uno de sus sueños es comprar vivienda propia en Guatemala.  Para nuestro próximo desayuno conferencia\,  hemos invitado a los Directores de Grupo Mi Tierra\,   quienes  han  diseñado  una aplicación para apoyar  en los  diferentes trámites  que requiere la compra\, ampliación\, mejora  de vivienda así como construcción en lote propio. \nTambién hemos invitado a funcionarios de BANRURAL quienes darán a conocer información sobre las remesas familiares que vienen a complementar a esta herramienta. \nFECHA Y HORA:   Miércoles 12 de Abril 2023  – 7:30 am \nLUGAR: Centro de Convenciones Kabel – 6 avenida 9-18 zona 10 – Edificio Sixtino II\, 10o. Nivel \nINFORMACIÓN E INSCRIPCIONES:  info@acenvi.org.gt \nADMISIÓN:  Q.100.00  –  Asociado 1 pase de cortesía
URL:https://www.acenvi.org.gt/eventos/desayuno-conferencia-nueva-plataforma-para-comercializar-vivienda-para-el-mercado-migrante-en-estados-unidos-de-america-miercoles-12-de-abril-730-am/
CATEGORIES:Desayuno
ATTACH;FMTTYPE=image/jpeg:https://www.acenvi.org.gt/wp-content/uploads/2023/03/Email.jpg
END:VEVENT
BEGIN:VEVENT
DTSTART;TZID=America/Guatemala:20230517T073000
DTEND;TZID=America/Guatemala:20230517T203000
DTSTAMP:20260423T201054
CREATED:20230510T200033Z
LAST-MODIFIED:20231206T141935Z
UID:2025-1684308600-1684355400@www.acenvi.org.gt
SUMMARY:Acciones implementadas para agilizar trámites en el Registro General de la Propiedad y errores comunes en la inscripción de la propiedad horizontal.
DESCRIPTION:El desarrollo de los proyectos habitacionales demanda de procesos legales ágiles\, desde la compra del terreno hasta la entrega de las unidades habitacionales. Por esa razón es que ACENVI ha invitado a funcionarios del Registro General de la Propiedad para que nos compartan como atenderán la demanda de inscripciones registrales y abogados que con su experiencia nos indican cómo hacer gestiones más eficientes. \nPresentación Registro General de la Propiedad \nPropiedad Horizontal
URL:https://www.acenvi.org.gt/eventos/asociacion-implementadas-para-agilizar-tramites-en-el-registro-general-de-la-propiedad-y-errores-comunes-en-la-inscripcion-de-la-propiedad-horizontal/
CATEGORIES:Desayuno
ATTACH;FMTTYPE=image/jpeg:https://www.acenvi.org.gt/wp-content/uploads/2023/05/Editable-invitaciones.jpg
END:VEVENT
BEGIN:VEVENT
DTSTART;TZID=UTC:20230621T073000
DTEND;TZID=UTC:20230621T210000
DTSTAMP:20260423T201054
CREATED:20230614T162332Z
LAST-MODIFIED:20231206T141941Z
UID:2098-1687332600-1687381200@www.acenvi.org.gt
SUMMARY:Vivienda Prioritaria
DESCRIPTION:Oportunidad de desarrollo habitacional\, su trámite e Incentivos Municipales.
URL:https://www.acenvi.org.gt/eventos/vivienda-prioritaria/
LOCATION:Centro de Convenciones Kabel\, 6 avenida 9-18 zona 10\, Guatemala\, Guatemala\, 01010\, Guatemala
CATEGORIES:Webinar
ATTACH;FMTTYPE=image/jpeg:https://www.acenvi.org.gt/wp-content/uploads/2023/06/WhatsApp-Image-2023-06-14-at-8.15.50-AM.jpeg
ORGANIZER;CN="Acenvi":MAILTO:info.acenvigt@gmail.com
END:VEVENT
BEGIN:VEVENT
DTSTART;TZID=UTC:20230719T073000
DTEND;TZID=UTC:20230719T203000
DTSTAMP:20260423T201054
CREATED:20230713T135715Z
LAST-MODIFIED:20231209T193616Z
UID:2114-1689751800-1689798600@www.acenvi.org.gt
SUMMARY:Resultados de la encuesta sobre Migración internacional de personas guatemaltecas y remesas 2022
DESCRIPTION:
URL:https://www.acenvi.org.gt/eventos/resultados-de-la-encuesta-sobre-migracion-internacional-de-personas-guatemaltecas-y-remesas-2022/
LOCATION:Centro de Convenciones Kabel\, 6 avenida 9-18 zona 10\, Guatemala\, Guatemala\, 01010\, Guatemala
CATEGORIES:Desayuno
ATTACH;FMTTYPE=image/jpeg:https://www.acenvi.org.gt/wp-content/uploads/2023/07/Conferencia-Migracion-internacional-y-remesas.jpg
ORGANIZER;CN="Acenvi":MAILTO:info.acenvigt@gmail.com
END:VEVENT
BEGIN:VEVENT
DTSTART;TZID=UTC:20230816T080000
DTEND;TZID=UTC:20230816T170000
DTSTAMP:20260423T201054
CREATED:20230816T193815Z
LAST-MODIFIED:20231215T151157Z
UID:2314-1692172800-1692205200@www.acenvi.org.gt
SUMMARY:Oportunidades para desarrollo de vivienda Sostenible y casos de éxito
DESCRIPTION:
URL:https://www.acenvi.org.gt/eventos/oportunidades-para-desarrollo-de-vivienda-sostenible-y-casos-de-exito/
CATEGORIES:Desayuno
ATTACH;FMTTYPE=image/jpeg:https://www.acenvi.org.gt/wp-content/uploads/2023/12/Oportunidades-para-desarrollo-sostenible-y-casos-de-exito.jpg
END:VEVENT
BEGIN:VEVENT
DTSTART;TZID=UTC:20230913T073000
DTEND;TZID=UTC:20230913T093000
DTSTAMP:20260423T201054
CREATED:20230913T193656Z
LAST-MODIFIED:20231215T151118Z
UID:2312-1694590200-1694597400@www.acenvi.org.gt
SUMMARY:Como vender más vivienda
DESCRIPTION:
URL:https://www.acenvi.org.gt/eventos/como-vender-mas-vivienda/
CATEGORIES:Webinar
ATTACH;FMTTYPE=image/jpeg:https://www.acenvi.org.gt/wp-content/uploads/2023/12/Conferencia-Como-vender-mas-vivienda.jpg
END:VEVENT
BEGIN:VEVENT
DTSTART;TZID=UTC:20231018T073000
DTEND;TZID=UTC:20231018T093000
DTSTAMP:20260423T201054
CREATED:20231018T193406Z
LAST-MODIFIED:20231215T151049Z
UID:2307-1697614200-1697621400@www.acenvi.org.gt
SUMMARY:Fianzas y seguros para el Desarrollo Inmobiliario
DESCRIPTION:
URL:https://www.acenvi.org.gt/eventos/fianzas-y-seguros-para-el-desarrollo-inmobiliario/
CATEGORIES:Webinar
ATTACH;FMTTYPE=image/jpeg:https://www.acenvi.org.gt/wp-content/uploads/2023/12/Conferencia-Fianzas-y-Seguros.jpg
END:VEVENT
BEGIN:VEVENT
DTSTART;TZID=America/Guatemala:20231129T073000
DTEND;TZID=America/Guatemala:20231129T100000
DTSTAMP:20260423T201054
CREATED:20231129T141036Z
LAST-MODIFIED:20231215T151013Z
UID:2179-1701243000-1701252000@www.acenvi.org.gt
SUMMARY:Perspectivas 2024.” Entorno económico\, político y social en Guatemala.
DESCRIPTION:Les invitamos a compartir con nosotros en un último evento del año el análisis de la situación de Guatemala. Contaremos con expertos que nos brindarán una luz sobre los temas económicos\, políticos y sociales del momento que vivimos para preparar nuestras estrategias hacia el futuro. \nComo asociado cuentan con 1 pase de cortesía\, agradeceremos CONFIRMAR ASISTENCIA en el siguiente link: https://forms.gle/QCW7zYCLaJEdMR3SA \nFECHA Y HORA:   Miércoles 29 de noviembre 2023  – 7:30 am \nLUGAR: Centro de Convenciones Kabel – 6 avenida 9-18 zona 10 – Edificio Sixtino II\, 10o. Nivel \nINFORMACIÓN E INSCRIPCIONES:  info@acenvi.org.gt \n*Incluye desayuno*
URL:https://www.acenvi.org.gt/eventos/perspectivas-2024-entorno-economico-politico-y-social-en-guatemala/
LOCATION:Centro de Convenciones Kabel\, 6 avenida 9-18 zona 10\, Guatemala\, Guatemala\, 01010\, Guatemala
ATTACH;FMTTYPE=image/jpeg:https://www.acenvi.org.gt/wp-content/uploads/2023/11/Perspectivas-2024.jpg
ORGANIZER;CN="Acenvi":MAILTO:info.acenvigt@gmail.com
END:VEVENT
BEGIN:VEVENT
DTSTART;TZID=UTC:20240130T073000
DTEND;TZID=UTC:20240130T130000
DTSTAMP:20260423T201054
CREATED:20240131T150635Z
LAST-MODIFIED:20240318T151114Z
UID:2571-1706599800-1706619600@www.acenvi.org.gt
SUMMARY:EFECTOS DE LA APLICACIÓN DE LA RESOLUCIÓN JM 67-2023 EN LOS CRÉDITOS DE VIVIENDA Y PERSPECTIVAS ECONÓMICAS PARA EL SECTOR CONSTRUCCIÓN
DESCRIPTION:
URL:https://www.acenvi.org.gt/eventos/efectos-de-la-aplicacion-de-la-resolucion-jm-67-2023-en-los-creditos-de-vivienda-y-perspectivas-economicas-para-el-sector-construccion/
CATEGORIES:Desayuno
ATTACH;FMTTYPE=image/jpeg:https://www.acenvi.org.gt/wp-content/uploads/2024/02/Imagen-de-WhatsApp-2024-02-12-a-las-17.18.32_918e4a01.jpg
END:VEVENT
BEGIN:VEVENT
DTSTART;TZID=UTC:20240221T073000
DTEND;TZID=UTC:20240221T170000
DTSTAMP:20260423T201054
CREATED:20240213T172133Z
LAST-MODIFIED:20240318T151951Z
UID:2445-1708500600-1708534800@www.acenvi.org.gt
SUMMARY:EL LEASING HABITACIONAL / UNA OPCIÓN PARA VENDER MÁS VIVIENDAS
DESCRIPTION: 
URL:https://www.acenvi.org.gt/eventos/el-leasing-habitacional-una-opcion-para-vender-mas-viviendas/
ATTACH;FMTTYPE=image/jpeg:https://www.acenvi.org.gt/wp-content/uploads/2024/02/Imagen-de-WhatsApp-2024-02-14-a-las-08.46.07_73ffc5ee.jpg
END:VEVENT
BEGIN:VEVENT
DTSTART;TZID=UTC:20240305T080000
DTEND;TZID=UTC:20240305T130000
DTSTAMP:20260423T201054
CREATED:20240223T150659Z
LAST-MODIFIED:20240318T151813Z
UID:2499-1709625600-1709643600@www.acenvi.org.gt
SUMMARY:ENCUENTRO REGIONAL DE LA VIVIENDA
DESCRIPTION:  \n  
URL:https://www.acenvi.org.gt/eventos/encuentro-regional-de-la-vivienda/
CATEGORIES:FORO
ATTACH;FMTTYPE=image/jpeg:https://www.acenvi.org.gt/wp-content/uploads/2024/02/Imagen-de-WhatsApp-2024-02-21-a-las-16.03.05_677fb945.jpg
END:VEVENT
BEGIN:VEVENT
DTSTART;TZID=UTC:20240321T080000
DTEND;TZID=UTC:20240321T120000
DTSTAMP:20260423T201054
CREATED:20240321T132600Z
LAST-MODIFIED:20240418T133121Z
UID:2603-1711008000-1711022400@www.acenvi.org.gt
SUMMARY:EXPOHALL MATERIALES
DESCRIPTION:
URL:https://www.acenvi.org.gt/eventos/expohall-materiales/
CATEGORIES:EXPO
ATTACH;FMTTYPE=image/jpeg:https://www.acenvi.org.gt/wp-content/uploads/2024/04/Imagen-de-WhatsApp-2024-04-18-a-las-07.10.22_2c32bc2a.jpg
END:VEVENT
BEGIN:VEVENT
DTSTART;TZID=UTC:20240424T073000
DTEND;TZID=UTC:20240424T090000
DTSTAMP:20260423T201054
CREATED:20240418T132135Z
LAST-MODIFIED:20240418T132536Z
UID:2596-1713943800-1713949200@www.acenvi.org.gt
SUMMARY:LA IMPORTANCIA DE LA CONSTRUCCIÓN SOSTENIBLE
DESCRIPTION:
URL:https://www.acenvi.org.gt/eventos/la-importancia-de-la-construccion-sostenible/
CATEGORIES:Conferencia
ATTACH;FMTTYPE=image/jpeg:https://www.acenvi.org.gt/wp-content/uploads/2024/04/Imagen-de-WhatsApp-2024-04-18-a-las-07.07.28_be36b581.jpg
END:VEVENT
BEGIN:VEVENT
DTSTART;TZID=UTC:20240523T180000
DTEND;TZID=UTC:20240523T200000
DTSTAMP:20260423T201054
CREATED:20240522T194708Z
LAST-MODIFIED:20240522T194733Z
UID:2642-1716487200-1716494400@www.acenvi.org.gt
SUMMARY:NETWORKING EMPRESARIAL
DESCRIPTION:
URL:https://www.acenvi.org.gt/eventos/networking-empresarial/
CATEGORIES:EXPO
ATTACH;FMTTYPE=image/jpeg:https://www.acenvi.org.gt/wp-content/uploads/2024/05/Imagen-de-WhatsApp-2024-05-22-a-las-13.17.18_5cfeaaa9.jpg
END:VEVENT
BEGIN:VEVENT
DTSTART;TZID=UTC:20240619T080000
DTEND;TZID=UTC:20240619T170000
DTSTAMP:20260423T201054
CREATED:20240527T224533Z
LAST-MODIFIED:20240527T224533Z
UID:2655-1718784000-1718816400@www.acenvi.org.gt
SUMMARY:LAS REMESAS UNA OPORTUNIDAD DE NEGOCIOS DE VIVIENDA
DESCRIPTION:
URL:https://www.acenvi.org.gt/eventos/las-remesas-una-oportunidad-de-negocios-de-vivienda/
CATEGORIES:Conferencia
ATTACH;FMTTYPE=image/jpeg:https://www.acenvi.org.gt/wp-content/uploads/2024/05/Imagen-de-WhatsApp-2024-05-27-a-las-15.54.02_f22aa536.jpg
END:VEVENT
BEGIN:VEVENT
DTSTART;TZID=UTC:20240716T080000
DTEND;TZID=UTC:20240716T170000
DTSTAMP:20260423T201054
CREATED:20240716T174241Z
LAST-MODIFIED:20240930T175629Z
UID:2708-1721116800-1721149200@www.acenvi.org.gt
SUMMARY:EXPERIENCIAS PARA EL DESARROLLO DE PROYECTOS MOVIS Y CASOS DE ÉXITOS
DESCRIPTION:
URL:https://www.acenvi.org.gt/eventos/experiencias-para-el-desarrollo-de-proyectos-movis-y-casos-de-exitos/
CATEGORIES:Conferencia
ATTACH;FMTTYPE=image/jpeg:https://www.acenvi.org.gt/wp-content/uploads/2024/09/IMG-20240927-WA0007.jpg
END:VEVENT
BEGIN:VEVENT
DTSTART;TZID=UTC:20240821T073000
DTEND;TZID=UTC:20240821T170000
DTSTAMP:20260423T201054
CREATED:20240821T173455Z
LAST-MODIFIED:20240930T174213Z
UID:2699-1724225400-1724259600@www.acenvi.org.gt
SUMMARY:FUTURO DE LAS FINANZAS SOSTENIBLES EN EL SECTOR DE LA CONSTRUCCIÓN EN GUATEMALA
DESCRIPTION:     
URL:https://www.acenvi.org.gt/eventos/futuro-de-las-finanzas-sostenibles-en-el-sector-de-la-construccion-en-guatemala/
CATEGORIES:Conferencia
ATTACH;FMTTYPE=image/jpeg:https://www.acenvi.org.gt/wp-content/uploads/2024/09/IMG-20240927-WA0002.jpg
END:VEVENT
BEGIN:VEVENT
DTSTART;TZID=UTC:20240926T080000
DTEND;TZID=UTC:20240926T170000
DTSTAMP:20260423T201054
CREATED:20240926T175931Z
LAST-MODIFIED:20240930T180002Z
UID:2716-1727337600-1727370000@www.acenvi.org.gt
SUMMARY:SOLUCIONES EFICIENTES para el tratamiento de las aguas residuales y su cumplimiento en el Acuerdo Gubernativo 236-2006 en proyectos inmobiliarios
DESCRIPTION:
URL:https://www.acenvi.org.gt/eventos/soluciones-eficientes-para-el-tratamiento-de-las-aguas-residuales-y-su-cumplimiento-en-el-acuerdo-gubernativo-236-2006-en-proyectos-inmobiliarios/
CATEGORIES:Conferencia
ATTACH;FMTTYPE=image/jpeg:https://www.acenvi.org.gt/wp-content/uploads/2024/09/Imagen-de-WhatsApp-2024-09-27-a-las-11.05.39_b3fe9c39.jpg
END:VEVENT
BEGIN:VEVENT
DTSTART;TZID=UTC:20241023T080000
DTEND;TZID=UTC:20241023T170000
DTSTAMP:20260423T201054
CREATED:20241119T162910Z
LAST-MODIFIED:20241120T163907Z
UID:2760-1729670400-1729702800@www.acenvi.org.gt
SUMMARY:Resultados a Septiembre 2024 y Proyecciones para 2025 FHA
DESCRIPTION:
URL:https://www.acenvi.org.gt/eventos/resultados-a-septiembre-2024-y-proyecciones-para-2025-fha/
LOCATION:Centro de Convenciones Kabel\, 6 avenida 9-18 zona 10\, Guatemala\, Guatemala\, 01010\, Guatemala
ATTACH;FMTTYPE=image/jpeg:https://www.acenvi.org.gt/wp-content/uploads/2024/11/IMG-20241120-WA0005.jpg
END:VEVENT
BEGIN:VEVENT
DTSTART;TZID=UTC:20241106T080000
DTEND;TZID=UTC:20241106T170000
DTSTAMP:20260423T201054
CREATED:20241120T162143Z
LAST-MODIFIED:20241120T163630Z
UID:2745-1730880000-1730912400@www.acenvi.org.gt
SUMMARY:Perspectiva Económicas y Tendencias para el Sector Vivienda en 2025
DESCRIPTION:
URL:https://www.acenvi.org.gt/eventos/perspectiva-economicas-y-tendencias-para-el-sector-vivienda-en-2025/
LOCATION:Centro de Convenciones Kabel\, 6 avenida 9-18 zona 10\, Guatemala\, Guatemala\, 01010\, Guatemala
CATEGORIES:Conferencia
ATTACH;FMTTYPE=image/jpeg:https://www.acenvi.org.gt/wp-content/uploads/2024/11/IMG-20241120-WA0004.jpg
END:VEVENT
BEGIN:VEVENT
DTSTART;TZID=UTC:20241127T180000
DTEND;TZID=UTC:20241127T210000
DTSTAMP:20260423T201054
CREATED:20241121T211144Z
LAST-MODIFIED:20250321T211310Z
UID:2821-1732730400-1732741200@www.acenvi.org.gt
SUMMARY:Networking Empresarial
DESCRIPTION:
URL:https://www.acenvi.org.gt/eventos/networking-empresarial-2/
CATEGORIES:Conferencia
ATTACH;FMTTYPE=image/jpeg:https://www.acenvi.org.gt/wp-content/uploads/2025/03/Imagen-de-WhatsApp-2025-03-19-a-las-10.05.06_c75e9794.jpg
END:VEVENT
BEGIN:VEVENT
DTSTART;TZID=UTC:20250321T080000
DTEND;TZID=UTC:20250321T170000
DTSTAMP:20260423T201054
CREATED:20241021T211436Z
LAST-MODIFIED:20250321T211755Z
UID:2829-1742544000-1742576400@www.acenvi.org.gt
SUMMARY:DIPLOMADO: Formulación y Evaluación de Proyectos Habitacionales
DESCRIPTION:
URL:https://www.acenvi.org.gt/eventos/diplomado-formulacion-y-evaluacion-de-proyectos-habitacionales/
CATEGORIES:Diplomado
ATTACH;FMTTYPE=image/jpeg:https://www.acenvi.org.gt/wp-content/uploads/2024/10/Imagen-de-WhatsApp-2025-03-19-a-las-10.12.40_5921a1b8.jpg
END:VEVENT
BEGIN:VEVENT
DTSTART;TZID=UTC:20250618T080000
DTEND;TZID=UTC:20250618T170000
DTSTAMP:20260423T201054
CREATED:20250620T013825Z
LAST-MODIFIED:20250620T014319Z
UID:2928-1750233600-1750266000@www.acenvi.org.gt
SUMMARY:Gestión Eficiente de Expedientes y Análisis de Créditos según Normativa FHA
DESCRIPTION:Realizado el 18 de junio\, reunió a más de 100 participantes entre desarrolladores\, analistas y representantes del sector financiero e inmobiliario\, en una jornada de capacitación orientada a fortalecer los conocimientos sobre la normativa vigente y las buenas prácticas en la gestión de expedientes crediticios. A lo largo del evento\, se abordaron temas clave para agilizar procesos\, mejorar la calidad de la documentación y optimizar la evaluación de créditos\, contribuyendo así al fortalecimiento del sistema de financiamiento habitacional.
URL:https://www.acenvi.org.gt/eventos/gestion-eficiente-de-expedientes-y-analisis-de-creditos-segun-normativa-fha/
ATTACH;FMTTYPE=image/jpeg:https://www.acenvi.org.gt/wp-content/uploads/2025/06/3995767377407839-scaled.jpg
END:VEVENT
END:VCALENDAR