BEGIN:VCALENDAR
VERSION:2.0
PRODID:-//ACENVI - ECPv6.15.17.1//NONSGML v1.0//EN
CALSCALE:GREGORIAN
METHOD:PUBLISH
X-ORIGINAL-URL:https://www.acenvi.org.gt
X-WR-CALDESC:Eventos para ACENVI
REFRESH-INTERVAL;VALUE=DURATION:PT1H
X-Robots-Tag:noindex
X-PUBLISHED-TTL:PT1H
BEGIN:VTIMEZONE
TZID:UTC
BEGIN:STANDARD
TZOFFSETFROM:+0000
TZOFFSETTO:+0000
TZNAME:UTC
DTSTART:20230101T000000
END:STANDARD
END:VTIMEZONE
BEGIN:VEVENT
DTSTART;TZID=UTC:20240926T080000
DTEND;TZID=UTC:20240926T170000
DTSTAMP:20260422T191610
CREATED:20240926T175931Z
LAST-MODIFIED:20240930T180002Z
UID:2716-1727337600-1727370000@www.acenvi.org.gt
SUMMARY:SOLUCIONES EFICIENTES para el tratamiento de las aguas residuales y su cumplimiento en el Acuerdo Gubernativo 236-2006 en proyectos inmobiliarios
DESCRIPTION:
URL:https://www.acenvi.org.gt/eventos/soluciones-eficientes-para-el-tratamiento-de-las-aguas-residuales-y-su-cumplimiento-en-el-acuerdo-gubernativo-236-2006-en-proyectos-inmobiliarios/
CATEGORIES:Conferencia
ATTACH;FMTTYPE=image/jpeg:https://www.acenvi.org.gt/wp-content/uploads/2024/09/Imagen-de-WhatsApp-2024-09-27-a-las-11.05.39_b3fe9c39.jpg
END:VEVENT
END:VCALENDAR