BEGIN:VCALENDAR
VERSION:2.0
PRODID:-//ACENVI - ECPv6.15.17.1//NONSGML v1.0//EN
CALSCALE:GREGORIAN
METHOD:PUBLISH
X-WR-CALNAME:ACENVI
X-ORIGINAL-URL:https://www.acenvi.org.gt
X-WR-CALDESC:Eventos para ACENVI
REFRESH-INTERVAL;VALUE=DURATION:PT1H
X-Robots-Tag:noindex
X-PUBLISHED-TTL:PT1H
BEGIN:VTIMEZONE
TZID:UTC
BEGIN:STANDARD
TZOFFSETFROM:+0000
TZOFFSETTO:+0000
TZNAME:UTC
DTSTART:20230101T000000
END:STANDARD
END:VTIMEZONE
BEGIN:VEVENT
DTSTART;TZID=UTC:20240221T073000
DTEND;TZID=UTC:20240221T170000
DTSTAMP:20260419T223731
CREATED:20240213T172133Z
LAST-MODIFIED:20240318T151951Z
UID:2445-1708500600-1708534800@www.acenvi.org.gt
SUMMARY:EL LEASING HABITACIONAL / UNA OPCIÓN PARA VENDER MÁS VIVIENDAS
DESCRIPTION: 
URL:https://www.acenvi.org.gt/eventos/el-leasing-habitacional-una-opcion-para-vender-mas-viviendas/
ATTACH;FMTTYPE=image/jpeg:https://www.acenvi.org.gt/wp-content/uploads/2024/02/Imagen-de-WhatsApp-2024-02-14-a-las-08.46.07_73ffc5ee.jpg
END:VEVENT
END:VCALENDAR