BEGIN:VCALENDAR
VERSION:2.0
PRODID:-//ACENVI - ECPv6.15.17.1//NONSGML v1.0//EN
CALSCALE:GREGORIAN
METHOD:PUBLISH
X-WR-CALNAME:ACENVI
X-ORIGINAL-URL:https://www.acenvi.org.gt
X-WR-CALDESC:Eventos para ACENVI
REFRESH-INTERVAL;VALUE=DURATION:PT1H
X-Robots-Tag:noindex
X-PUBLISHED-TTL:PT1H
BEGIN:VTIMEZONE
TZID:America/Guatemala
BEGIN:STANDARD
TZOFFSETFROM:-0600
TZOFFSETTO:-0600
TZNAME:CST
DTSTART:20220101T000000
END:STANDARD
END:VTIMEZONE
BEGIN:VEVENT
DTSTART;TZID=America/Guatemala:20230315T073000
DTEND;TZID=America/Guatemala:20230315T083000
DTSTAMP:20260424T133025
CREATED:20230313T170613Z
LAST-MODIFIED:20231206T141922Z
UID:1950-1678865400-1678869000@www.acenvi.org.gt
SUMMARY:Desayuno foro: Multiplique sus ventas de vivienda aprovechando la TASA de interés preferencial - Experiencias en su aplicación
DESCRIPTION:Cuando entró en vigor el Decreto Ley 27-2022  Tasa de Interés Preferencial – LIP\,  surgieron algunas dudas en cuanto a su correcta aplicación y beneficios.  Para darles a conocer las experiencias que hasta el momento  se ha tenido en su aplicación\, le invitamos a inscribirse al desayuno FORO: Multiplique sus ventas de vivienda aprovechando la tasa de interés preferencial\, hemos invitado a:\nFHA  – Lic. Mauricio González Sub Gerente de Operaciones y  BANRURAL – Licenciado Mario Urrutia Director de Vivienda\nCABI -Ing. Paulo de Leon quien dará una introducción con datos del potencial que tiene esta Ley\nAdemás de un testimonial de un proyecto que está aprovechando este beneficio. \nFECHA Y HORA: Miércoles 15 de Marzo 2023 –  7:30 AM\nLUGAR: Centro de Convenciones Kabel – 6 avenida 9-18 zona 10 – Edificio Sixtino II\, 10o. Nivel\nINFORMACIÓN E INSCRIPCIONES:  info@acenvi.org.gt\nADMISIÓN:  Q.150.00  –  Asociado 1 pase de cortesía
URL:https://www.acenvi.org.gt/eventos/desayuno-foro-multiplique-sus-ventas-de-vivienda-aprovechando-la-tasa-de-interes-preferencial-experiencias-en-su-aplicacion/
CATEGORIES:Desayuno
ATTACH;FMTTYPE=image/jpeg:https://www.acenvi.org.gt/wp-content/uploads/2023/03/image002-9.jpg
END:VEVENT
END:VCALENDAR