BEGIN:VCALENDAR
VERSION:2.0
PRODID:-//ACENVI - ECPv6.15.17.1//NONSGML v1.0//EN
CALSCALE:GREGORIAN
METHOD:PUBLISH
X-WR-CALNAME:ACENVI
X-ORIGINAL-URL:https://www.acenvi.org.gt
X-WR-CALDESC:Eventos para ACENVI
REFRESH-INTERVAL;VALUE=DURATION:PT1H
X-Robots-Tag:noindex
X-PUBLISHED-TTL:PT1H
BEGIN:VTIMEZONE
TZID:America/Guatemala
BEGIN:STANDARD
TZOFFSETFROM:-0600
TZOFFSETTO:-0600
TZNAME:CST
DTSTART:20210101T000000
END:STANDARD
END:VTIMEZONE
BEGIN:VEVENT
DTSTART;TZID=America/Guatemala:20221102T173000
DTEND;TZID=America/Guatemala:20221102T183000
DTSTAMP:20260424T202259
CREATED:20221025T191217Z
LAST-MODIFIED:20231206T141741Z
UID:1877-1667410200-1667413800@www.acenvi.org.gt
SUMMARY:Webinar ACENVI: Cómo asegurar proyectos habitacionales en serie y su infraestructura
DESCRIPTION:El miércoles 2 de noviembre tendremos el webinar: Cómo asegurar proyectos habitacionales en serie y su infraestructura   y hemos invitado a un experto en el tema Licenciado Manuel Morales\, Gerente General de la Agencia de Seguros Todo Riesgo quien nos compartirá información de algunos modelos de seguro que pueden ser de interés para tomarlos en cuenta. \nFECHA y HORA:  Miercoles 2 de Noviembre  . – 17:30 Horas \nAdmisión gratuita – Cupo limitado – información:  info@acenvi.org.gt
URL:https://www.acenvi.org.gt/eventos/webinar-acenvi-como-asegurar-proyectos-habitacionales-en-serie-y-su-infraestructura/
CATEGORIES:Webinar
ATTACH;FMTTYPE=image/jpeg:https://www.acenvi.org.gt/wp-content/uploads/2022/10/image002-8.jpg
END:VEVENT
END:VCALENDAR